BEGIN:VCALENDAR
VERSION:2.0
PRODID:-//pretix//pretix.eu//
BEGIN:VTIMEZONE
TZID:Canada/Pacific
BEGIN:STANDARD
DTSTART:20001029T030000
RRULE:FREQ=YEARLY;BYDAY=-1SU;BYMONTH=10;UNTIL=20061029T100000Z
TZNAME:PST
TZOFFSETFROM:-0700
TZOFFSETTO:-0800
END:STANDARD
BEGIN:STANDARD
DTSTART:20071104T030000
RRULE:FREQ=YEARLY;BYDAY=1SU;BYMONTH=11
TZNAME:PST
TZOFFSETFROM:-0700
TZOFFSETTO:-0800
END:STANDARD
BEGIN:DAYLIGHT
DTSTART:20000402T030000
RRULE:FREQ=YEARLY;BYDAY=1SU;BYMONTH=4;UNTIL=20060402T110000Z
TZNAME:PDT
TZOFFSETFROM:-0800
TZOFFSETTO:-0700
END:DAYLIGHT
BEGIN:DAYLIGHT
DTSTART:20070311T030000
RRULE:FREQ=YEARLY;BYDAY=2SU;BYMONTH=3
TZNAME:PDT
TZOFFSETFROM:-0800
TZOFFSETTO:-0700
END:DAYLIGHT
END:VTIMEZONE
BEGIN:VEVENT
UID:pretix-vankaifong-space-20240616-0@tickets.vankaifong.com
DTSTART;TZID=Canada/Pacific:20240616T150000
DTEND;TZID=Canada/Pacific:20240616T163000
DESCRIPTION:門票:https://tickets.vankaifong.com/space-20240616/\n錄取
 ：2024年6月16日 15:00\n召集人:溫哥華街坊會 Vancouver Kaifong 
 Association
DTSTAMP:20260421T103734Z
LOCATION:6100 Willingdon Avenue\, Burnaby\, BC  V5H 4N5
SUMMARY:香港人 社區空間 6月號 2024年6月16日
END:VEVENT
END:VCALENDAR
