BEGIN:VCALENDAR
VERSION:2.0
PRODID:-//pretix//pretix.eu//
BEGIN:VTIMEZONE
TZID:Canada/Pacific
BEGIN:STANDARD
DTSTART:20001029T030000
RRULE:FREQ=YEARLY;BYDAY=-1SU;BYMONTH=10;UNTIL=20061029T100000Z
TZNAME:PST
TZOFFSETFROM:-0700
TZOFFSETTO:-0800
END:STANDARD
BEGIN:STANDARD
DTSTART:20071104T030000
RRULE:FREQ=YEARLY;BYDAY=1SU;BYMONTH=11
TZNAME:PST
TZOFFSETFROM:-0700
TZOFFSETTO:-0800
END:STANDARD
BEGIN:DAYLIGHT
DTSTART:20000402T030000
RRULE:FREQ=YEARLY;BYDAY=1SU;BYMONTH=4;UNTIL=20060402T110000Z
TZNAME:PDT
TZOFFSETFROM:-0800
TZOFFSETTO:-0700
END:DAYLIGHT
BEGIN:DAYLIGHT
DTSTART:20070311T030000
RRULE:FREQ=YEARLY;BYDAY=2SU;BYMONTH=3
TZNAME:PDT
TZOFFSETFROM:-0800
TZOFFSETTO:-0700
END:DAYLIGHT
END:VTIMEZONE
BEGIN:VEVENT
UID:pretix-vankaifong-english-202509-0@tickets.vankaifong.com
DTSTART;TZID=Canada/Pacific:20250927T113000
DTEND;TZID=Canada/Pacific:20250927T160000
DESCRIPTION:Tickets: https://tickets.vankaifong.com/english-202509/\nOrgani
 zer: 溫哥華街坊會 Vancouver Kaifong Association
DTSTAMP:20260421T103850Z
LOCATION:Wo Fung Noodle House - 8088 Park Road\, Richmond (https://maps.app
 .goo.gl/r2GpV5RSLLz5HXpT8)
SUMMARY:街坊會同你 - 聆聽加國寄宿學校生還者心路歷程
END:VEVENT
END:VCALENDAR
