BEGIN:VCALENDAR
VERSION:2.0
PRODID:-//pretix//pretix.eu//
BEGIN:VTIMEZONE
TZID:America/Vancouver
BEGIN:STANDARD
DTSTART:20001029T030000
RRULE:FREQ=YEARLY;BYDAY=-1SU;BYMONTH=10;UNTIL=20061029T100000Z
TZNAME:PST
TZOFFSETFROM:-0700
TZOFFSETTO:-0800
END:STANDARD
BEGIN:STANDARD
DTSTART:20071104T030000
RRULE:FREQ=YEARLY;BYDAY=1SU;BYMONTH=11
TZNAME:PST
TZOFFSETFROM:-0700
TZOFFSETTO:-0800
END:STANDARD
BEGIN:DAYLIGHT
DTSTART:20000402T030000
RRULE:FREQ=YEARLY;BYDAY=1SU;BYMONTH=4;UNTIL=20060402T110000Z
TZNAME:PDT
TZOFFSETFROM:-0800
TZOFFSETTO:-0700
END:DAYLIGHT
BEGIN:DAYLIGHT
DTSTART:20070311T030000
RRULE:FREQ=YEARLY;BYDAY=2SU;BYMONTH=3
TZNAME:PDT
TZOFFSETFROM:-0800
TZOFFSETTO:-0700
END:DAYLIGHT
END:VTIMEZONE
BEGIN:VEVENT
UID:pretix-vankaifong-employ-08-0@tickets.vankaifong.com
DTSTART;TZID=America/Vancouver:20240812T160000
DTEND;TZID=America/Vancouver:20240814T180000
DESCRIPTION:Tickets: https://tickets.vankaifong.com/employ-08/\nOrganizer: 
 溫哥華街坊會 Vancouver Kaifong Association
DTSTAMP:20260421T103734Z
LOCATION:Sunrise Welcome Place (2728 E. Hastings Street\, Vancouver) (https
 ://maps.app.goo.gl/ewxSD8fsU7YGRoY99)
SUMMARY:新移民求職就業工作坊
END:VEVENT
END:VCALENDAR
