BEGIN:VCALENDAR
VERSION:2.0
PRODID:-//pretix//pretix.eu//
BEGIN:VTIMEZONE
TZID:America/Vancouver
BEGIN:STANDARD
DTSTART:20001029T030000
RRULE:FREQ=YEARLY;BYDAY=-1SU;BYMONTH=10;UNTIL=20061029T100000Z
TZNAME:PST
TZOFFSETFROM:-0700
TZOFFSETTO:-0800
END:STANDARD
BEGIN:STANDARD
DTSTART:20071104T030000
RRULE:FREQ=YEARLY;BYDAY=1SU;BYMONTH=11
TZNAME:PST
TZOFFSETFROM:-0700
TZOFFSETTO:-0800
END:STANDARD
BEGIN:DAYLIGHT
DTSTART:20000402T030000
RRULE:FREQ=YEARLY;BYDAY=1SU;BYMONTH=4;UNTIL=20060402T110000Z
TZNAME:PDT
TZOFFSETFROM:-0800
TZOFFSETTO:-0700
END:DAYLIGHT
BEGIN:DAYLIGHT
DTSTART:20070311T030000
RRULE:FREQ=YEARLY;BYDAY=2SU;BYMONTH=3
TZNAME:PDT
TZOFFSETFROM:-0800
TZOFFSETTO:-0700
END:DAYLIGHT
END:VTIMEZONE
BEGIN:VEVENT
UID:pretix-vankaifong-bbq-202407-0@tickets.vankaifong.com
DTSTART;TZID=America/Vancouver:20240728T160000
DTEND;TZID=America/Vancouver:20240728T200000
DESCRIPTION:Tickets: https://tickets.vankaifong.com/bbq-202407/\nOrganizer:
  溫哥華街坊會 Vancouver Kaifong Association
DTSTAMP:20260421T103740Z
LOCATION:King George Park (Richmond - Cambie Road and No. 5 Road)\, 📍 ht
 tps://maps.app.goo.gl/d7eNwXqppCJ4BrtC8
SUMMARY:食盡人間煙火街坊會All in Smokers BBQ
END:VEVENT
END:VCALENDAR
